BEGIN:VCALENDAR
VERSION:2.0
PRODID:-//Laurel Mountain Ministries - ECPv6.15.20//NONSGML v1.0//EN
CALSCALE:GREGORIAN
METHOD:PUBLISH
X-ORIGINAL-URL:https://laurelmountainministries.org
X-WR-CALDESC:Events for Laurel Mountain Ministries
REFRESH-INTERVAL;VALUE=DURATION:PT1H
X-Robots-Tag:noindex
X-PUBLISHED-TTL:PT1H
BEGIN:VTIMEZONE
TZID:America/New_York
BEGIN:DAYLIGHT
TZOFFSETFROM:-0500
TZOFFSETTO:-0400
TZNAME:EDT
DTSTART:20230312T070000
END:DAYLIGHT
BEGIN:STANDARD
TZOFFSETFROM:-0400
TZOFFSETTO:-0500
TZNAME:EST
DTSTART:20231105T060000
END:STANDARD
BEGIN:DAYLIGHT
TZOFFSETFROM:-0500
TZOFFSETTO:-0400
TZNAME:EDT
DTSTART:20240310T070000
END:DAYLIGHT
BEGIN:STANDARD
TZOFFSETFROM:-0400
TZOFFSETTO:-0500
TZNAME:EST
DTSTART:20241103T060000
END:STANDARD
BEGIN:DAYLIGHT
TZOFFSETFROM:-0500
TZOFFSETTO:-0400
TZNAME:EDT
DTSTART:20250309T070000
END:DAYLIGHT
BEGIN:STANDARD
TZOFFSETFROM:-0400
TZOFFSETTO:-0500
TZNAME:EST
DTSTART:20251102T060000
END:STANDARD
END:VTIMEZONE
BEGIN:VEVENT
DTSTART;TZID=America/New_York:20241214T190000
DTEND;TZID=America/New_York:20241214T210000
DTSTAMP:20260419T193056
CREATED:20240920T050834Z
LAST-MODIFIED:20241206T200122Z
UID:2938-1734202800-1734210000@laurelmountainministries.org
SUMMARY:Avalanche Service with Apostle Rick Vincent and Heaven's Thunder Band
DESCRIPTION:Avalanche Service on Miracle Mountain\nAre you ready for an Avalanche Outpouring of God’s Love and Power? Then come\, join us on the Mountain for ONE NIGHT ONLY\, December 14\, 2024 at 7:00 p.m.\, with Apostle Rick Vincent as guest speaker and worship music by Heaven’s Thunder Band! \nRick Vincent Profile\nRick Vincent’s ministry spans more than 40 years. From a youth pastor to founding pastor of Abundant Life Church in Winchester\, Tennessee\, Rick’s calling focuses on evangelism and intercessory prayer. \nIn 1992\, Apostle Vincent established an evangelistic ministry\, Word of Glory. Since then\, Word of Glory launched Rick’s various ministries. In recent years\, Brother Rick travels with his daughter\, Evangelist Jennifer Martin and Contagious Love Ministries\, assisting and speaking as God leads. \n \n\nA Word From Apostle Rick Vincent Avalanche \n“… I know. I feel a shaking on the mountain …. Hebrews 12:26-27 comes to mind. ‘Yet once more I shake not only the earth\, but also heaven. ‘ Now this\, ‘Yet once more\,’ indicates the removal of those things that are being shaken\, as of things that are made\, that the things which cannot be shaken may remain. “\n\n\nRemembering Some Rick’s Baptisms on the Mountain\n \nHeaven’s Thunder Band – Worship Leaders\n\nDeeply rooted in the classic/southern rock genre with more than a hint of contemporary worship tossed in\, the Heaven’s Thunder Band found influences from groups like: Third Day\, Lynyrd Skynyrd\, Jesus Culture\, and Casting Crowns. Their blend of guitars and keyboards\, sitting on top of a solid foundation of heavy bass and hard-driving drums\, sets the stage for a positive message evoked through their vocals. \n \nThe Heaven’s Thunder Band appears at venues ranging from community block-parties to Faith & Family events. They are also regulars at Large Church Worship events\, and local sports stadiums where they perform at faith-based programs. Last year they appeared at the Reading Fightins\, the Lehigh Valley Iron Pigs\, the Philadelphia SOUL\, the Reading Royals and everything in between. In recent years\, the award winning group accepted invitations to play at multiple “Battle of the Bands.” They were also nominated for “Best Christian Classic Rock Band.” The Heaven’s Thunder Band will take you for a ride. The only question is\, “Where will the ride take you?” \nWatch Heaven’s Thunder Band Most Recent Video
URL:https://laurelmountainministries.org/event/avalanche-service-with-apostle-rick-vincent/
LOCATION:Campus Chapel
CATEGORIES:Events
ATTACH;FMTTYPE=image/jpeg:https://laurelmountainministries.org/wp-content/uploads/2024/09/avalanche.jpeg
ORGANIZER;CN="Laurel Mountain Ministries":MAILTO:info@laurelmountainministries.org
END:VEVENT
END:VCALENDAR