BEGIN:VCALENDAR
VERSION:2.0
PRODID:-//Laurel Mountain Ministries - ECPv6.15.20//NONSGML v1.0//EN
CALSCALE:GREGORIAN
METHOD:PUBLISH
X-WR-CALNAME:Laurel Mountain Ministries
X-ORIGINAL-URL:https://laurelmountainministries.org
X-WR-CALDESC:Events for Laurel Mountain Ministries
REFRESH-INTERVAL;VALUE=DURATION:PT1H
X-Robots-Tag:noindex
X-PUBLISHED-TTL:PT1H
BEGIN:VTIMEZONE
TZID:America/New_York
BEGIN:DAYLIGHT
TZOFFSETFROM:-0500
TZOFFSETTO:-0400
TZNAME:EDT
DTSTART:20230312T070000
END:DAYLIGHT
BEGIN:STANDARD
TZOFFSETFROM:-0400
TZOFFSETTO:-0500
TZNAME:EST
DTSTART:20231105T060000
END:STANDARD
BEGIN:DAYLIGHT
TZOFFSETFROM:-0500
TZOFFSETTO:-0400
TZNAME:EDT
DTSTART:20240310T070000
END:DAYLIGHT
BEGIN:STANDARD
TZOFFSETFROM:-0400
TZOFFSETTO:-0500
TZNAME:EST
DTSTART:20241103T060000
END:STANDARD
BEGIN:DAYLIGHT
TZOFFSETFROM:-0500
TZOFFSETTO:-0400
TZNAME:EDT
DTSTART:20250309T070000
END:DAYLIGHT
BEGIN:STANDARD
TZOFFSETFROM:-0400
TZOFFSETTO:-0500
TZNAME:EST
DTSTART:20251102T060000
END:STANDARD
END:VTIMEZONE
BEGIN:VEVENT
DTSTART;TZID=America/New_York:20240803T100000
DTEND;TZID=America/New_York:20240803T160000
DTSTAMP:20260419T235528
CREATED:20240807T163325Z
LAST-MODIFIED:20240807T163333Z
UID:2826-1722679200-1722700800@laurelmountainministries.org
SUMMARY:Jesus Rally at City Hall Philadelphia
DESCRIPTION:Rev. Dave to Speak at Jesus Rally\nJoin Rev. Dave\, Laurel Mountain Ministries\, Executive Director\, as he speaks at 2:00 at the Philadelphia Jesus Rally in front of City Hall in Philadelphia. The day long Jesus Rally starts at 10:00 with worship and testimonies on the Philadelphia Art Museum Steps. At noon the Rally Moves to City Hall with more music and preaching. \nJoin Rev\, Dave and stand up for Jesus at the Philadelphia Jesus Rally. \nThe Philadelphia Jesus Rally is sponsored by the Sword Goes Forth Ministries.
URL:https://laurelmountainministries.org/event/jesus-rally-at-city-hall-philadelphia/
LOCATION:Philadelphia Jesus Rally\, City Hall\, Philadelphia\, Philadelphia\, PA\, United States
CATEGORIES:Events
ATTACH;FMTTYPE=image/jpeg:https://laurelmountainministries.org/wp-content/uploads/2024/08/IMG_0727.jpeg
ORGANIZER;CN="Swrod Goes Forth Ministries":MAILTO:SwordGoesForth@gmail.com
END:VEVENT
END:VCALENDAR