BEGIN:VCALENDAR
VERSION:2.0
PRODID:-//Laurel Mountain Ministries - ECPv6.15.20//NONSGML v1.0//EN
CALSCALE:GREGORIAN
METHOD:PUBLISH
X-ORIGINAL-URL:https://laurelmountainministries.org
X-WR-CALDESC:Events for Laurel Mountain Ministries
REFRESH-INTERVAL;VALUE=DURATION:PT1H
X-Robots-Tag:noindex
X-PUBLISHED-TTL:PT1H
BEGIN:VTIMEZONE
TZID:America/New_York
BEGIN:DAYLIGHT
TZOFFSETFROM:-0500
TZOFFSETTO:-0400
TZNAME:EDT
DTSTART:20230312T070000
END:DAYLIGHT
BEGIN:STANDARD
TZOFFSETFROM:-0400
TZOFFSETTO:-0500
TZNAME:EST
DTSTART:20231105T060000
END:STANDARD
BEGIN:DAYLIGHT
TZOFFSETFROM:-0500
TZOFFSETTO:-0400
TZNAME:EDT
DTSTART:20240310T070000
END:DAYLIGHT
BEGIN:STANDARD
TZOFFSETFROM:-0400
TZOFFSETTO:-0500
TZNAME:EST
DTSTART:20241103T060000
END:STANDARD
BEGIN:DAYLIGHT
TZOFFSETFROM:-0500
TZOFFSETTO:-0400
TZNAME:EDT
DTSTART:20250309T070000
END:DAYLIGHT
BEGIN:STANDARD
TZOFFSETFROM:-0400
TZOFFSETTO:-0500
TZNAME:EST
DTSTART:20251102T060000
END:STANDARD
END:VTIMEZONE
BEGIN:VEVENT
DTSTART;TZID=America/New_York:20240607T190000
DTEND;TZID=America/New_York:20240607T210000
DTSTAMP:20260420T015620
CREATED:20240301T190056Z
LAST-MODIFIED:20240507T201558Z
UID:2091-1717786800-1717794000@laurelmountainministries.org
SUMMARY:Pennsylvania Miracle Tent Revival on the Mountain - East Coast Healing Center w/ Evangelist Don Allen
DESCRIPTION:Miracle Tent Revival on the Mountain – Day Six – Evening\nIt’s Day Six of twenty-one day of the Pennsylvania Miracle Tent Revival on the Mountain .This week\, the  Revival is hosted by the East Coast Healing Center and its Founders Rich and Michele Snyder. This evening Evangelist Don Allen presents Biblical teaching on physical healing. This music and worship provided by the Morning Star Church youth worship team from Boyertown\, Pennsylvania. \nAt 1:00 p.m. tomorrow\, Michele and Don will teach a WORKSHOPhttps://laurelmountainministries.org/event/pennsylvania-miracle-tent-revival-on-the-mountain-east-coast-healing-center-healing-workshop/ based on the MIdwest and East Coast Healing Center Curriculum. \nAbout the East Coast Healing Center and Rich and Michele Snyder \n \nRich and Michele Snyder co-foundered the EAST COAST HEALING CENTER – a branch of the Midwest Healing Center of Laurie\, MO. \nRich and Michele’s extensive ministry experience began with street evangelism. They worked with Prodigal Son Ministries and For Jesus Ministries in Fort Worth\, TX where they fed and clothed at risk people. While on the streets\, they also prayed for the sick and saw healings\, signs\, and wonders. They led classes for homeless men and women\, helping the participants break free from life-controlling issues. \nIn 2007-2008\, Rich and Michele lived in Kenya\, Africa where they received further instruction under the apostolic ministry of Life Church International. Rich and Michele used that experience to minister in home fellowships\, conferences\, and church services in the U.S.\, and internationally. \nLater\, as part of their counseling ministry\, they led many couples to healing and marriage restoration. During that time\, they also gained experience in pastoring and leadership training. Presently\, Rich and Michele have an active speaking and YouTube Ministry. \nMichele has more than twenty-five years of teaching experience. Her giftings explain Biblical concepts in practical\, thought-provoking ways encouraging others to act boldly on their faith. Michele’s gift is exercised in her book\, Exposing the Enemy – Leaving the Rut of Bondage to Pursue Breakthrough and Destiny. Michele’s latest book\, His Word Became Flesh: Daily Devotions for Physical Healing\, is not a typical daily devotional. The daily readings will teach you how to receive healing for yourself. At the same time it provides a road map to renew your mind\, remove false teachings\, and build your faith for your own healing. \nRich is a gifted administrator\, technical expert\, and speaker who ministers the Word of God at the core. igniting a change of heart. \nRich and Michele have been married for more than 35 years and have five children and six grandchildren. \nHear Rich and Michele Snyder\n \nAbout Evangelist Don Allen\nTelevision and radio host\, author and evangelist\, Don Allen stands on the front lines of world evangelism.  For over 20 years\, Don advanced the cause of Christ throughout the United States and also to other countries including Ethiopia\, Malawi\, and El-Salvador. \nHe believes that the Gospel works in every culture\, in the midst of every religion\, and in every generation. Today\, he continues the quest to manifest the miracle ministry of Jesus Christ to this generation. \nDon “earnestly contends for the faith that was once delivered to the saints.” That mission is two-fold.  First\, he guides believers to  place where they can receive a miracle\, their healing.  Second\, he teaches them how to bring God’s healing power to a lost and dying world\, and demonstrate that there is a God in heaven that loves them. \nIn 2000\, Don Allen began by teaching prayer and healing. Through the study of the scriptures\, he uncovered the modern day miracle ministry of Jesus Christ.  He learned that Bible methods still produce Bible results. \nDon is the President and co-founder of twoguysadabible Ministries. He is also the founder of the Midwest Healing Center Lake of the Ozarks and Pastor of Church @ The MHC where he holds meetings every Tuesday\, Wednesday and Sunday. At the same time\, Don operates a Prayer and Healing Room in Lauire\, Missouri praying for hundreds people per month where the miraculous power of God manifests in healing. \nDon Allen is the host of “Christ the Healer” worldwide television program. He also hosts “The New Old School Podcast.” He also has a Miracle and Healing room in Ethiopia\, where local evangelists pray for the sick and have seen many miracles. \nDuring the past 20 years\, many documented miracles occurred under his ministry as he taught people to stand on and believe the Word of God. Don presses passionately presses forward driven by the world-wide heart-cry for the love and miracle ministry of Jesus Christ. \nAlong side his other ministries\, Don authored the book\, 7 Days with a Witch. It’s a true story of his encounter with the High Witch of the 4 Corners. \nDon Allen lives by his motto\, “Attempt the ridiculous\, achieve the miraculous!” \nHear Evangelist Don Allen\n \nIf you enjoyed Day SIx of the Pennsylvania Miracle Tent Revival on the Mountain\, please join us for Day Seven on the Mountain. \nTomorrow afternoon at 1:00\, Michele and Don will teach a WORKSHOPhttps://laurelmountainministries.org/event/pennsylvania-miracle-tent-revival-on-the-mountain-east-coast-healing-center-healing-workshop/ based on the MIdwest and East Coast Healing Center Curriculum.
URL:https://laurelmountainministries.org/event/pennsylvania-miracle-tent-revival-on-the-mountain-east-coast-healing-center-6/
LOCATION:Laurel Mountain Ministries\, 27 Chapel Lane\, Boyertown\, PA\, 19512\, United States
CATEGORIES:Events
ATTACH;FMTTYPE=image/jpeg:https://laurelmountainministries.org/wp-content/uploads/2024/04/IMG_0606.jpeg
ORGANIZER;CN="East Coast Healing Center":MAILTO:eastcoasthealingcenter.pa@gmail.com
END:VEVENT
END:VCALENDAR