BEGIN:VCALENDAR
VERSION:2.0
PRODID:-//Laurel Mountain Ministries - ECPv6.15.20//NONSGML v1.0//EN
CALSCALE:GREGORIAN
METHOD:PUBLISH
X-WR-CALNAME:Laurel Mountain Ministries
X-ORIGINAL-URL:https://laurelmountainministries.org
X-WR-CALDESC:Events for Laurel Mountain Ministries
REFRESH-INTERVAL;VALUE=DURATION:PT1H
X-Robots-Tag:noindex
X-PUBLISHED-TTL:PT1H
BEGIN:VTIMEZONE
TZID:America/New_York
BEGIN:DAYLIGHT
TZOFFSETFROM:-0500
TZOFFSETTO:-0400
TZNAME:EDT
DTSTART:20250309T070000
END:DAYLIGHT
BEGIN:STANDARD
TZOFFSETFROM:-0400
TZOFFSETTO:-0500
TZNAME:EST
DTSTART:20251102T060000
END:STANDARD
BEGIN:DAYLIGHT
TZOFFSETFROM:-0500
TZOFFSETTO:-0400
TZNAME:EDT
DTSTART:20260308T070000
END:DAYLIGHT
BEGIN:STANDARD
TZOFFSETFROM:-0400
TZOFFSETTO:-0500
TZNAME:EST
DTSTART:20261101T060000
END:STANDARD
BEGIN:DAYLIGHT
TZOFFSETFROM:-0500
TZOFFSETTO:-0400
TZNAME:EDT
DTSTART:20270314T070000
END:DAYLIGHT
BEGIN:STANDARD
TZOFFSETFROM:-0400
TZOFFSETTO:-0500
TZNAME:EST
DTSTART:20271107T060000
END:STANDARD
END:VTIMEZONE
BEGIN:VEVENT
DTSTART;TZID=America/New_York:20260428T190000
DTEND;TZID=America/New_York:20260428T203000
DTSTAMP:20260419T121127
CREATED:20260119T192919Z
LAST-MODIFIED:20260119T205310Z
UID:3948-1777402800-1777408200@laurelmountainministries.org
SUMMARY:Bible Study on the Mountain Spring 2026
DESCRIPTION:The Ladder and the Limp\nTen Lessons from Jacob’s Road from Striving to Surrender\nLaurel Mountain Ministries invites you to a new Bible study taught by Gail Johnson beginning Tuesday\, March 17\, 2026. The Ladder and the Limp: Ten Lessons from Jacob’s Road from Striving to Surrender will meet on ten consecutive Tuesday evenings at 7:00 PM in the campus conference room at Laurel Mountain Ministries.. \nThe study centers on the life of Jacob as recorded in Genesis 25–35\, tracing his long movement from striving and self-reliance toward surrender and trust in God. Jacob’s story resonates with believers who recognize seasons of waiting and uncertainty and who desire to grow in faith while navigating those challenges. Through close engagement with Scripture\, participants will explore how God meets His people in ordinary places and difficult circumstances\, shaping character over time. \nEach session focuses on a significant moment in Jacob’s life\, beginning “Before the Ladder” at Bethel and moving toward the night of wrestling that left him permanently changed “After the Limp”.The study highlights God’s faithfulness across seasons and invites reflection striving and surrender that often precede spiritual transformation. \nAbout the Presenter\nGail Johnson is widely known within the Laurel Mountain community for her thoughtful\, Scripture-centered teaching. She brings extensive experience leading adult Bible studies\, and a deep commitment to helping others understand God’s Word. \nThis Bible study is open to adults of all ages. It’s appropriate for those seeking spiritual growth\, renewed perspective\, or deeper biblical understanding. No prior Bible study experience is required. \nThe study begins Tuesday\, March 17\, 2026\, at 7:00 PM and continues for ten consecutive Tuesday evenings in the campus conference room at Laurel Mountain Ministries.
URL:https://laurelmountainministries.org/event/bible-study-on-the-mountain-spring-2026-session-7/
LOCATION:Campus Chapel
CATEGORIES:Events
ATTACH;FMTTYPE=image/png:https://laurelmountainministries.org/wp-content/uploads/2026/01/IMG_1247.png
ORGANIZER;CN="Laurel Mountain Ministries":MAILTO:info@laurelmountainministries.org
END:VEVENT
END:VCALENDAR