BEGIN:VCALENDAR
VERSION:2.0
PRODID:-//Laurel Mountain Ministries - ECPv6.15.20//NONSGML v1.0//EN
CALSCALE:GREGORIAN
METHOD:PUBLISH
X-WR-CALNAME:Laurel Mountain Ministries
X-ORIGINAL-URL:https://laurelmountainministries.org
X-WR-CALDESC:Events for Laurel Mountain Ministries
REFRESH-INTERVAL;VALUE=DURATION:PT1H
X-Robots-Tag:noindex
X-PUBLISHED-TTL:PT1H
BEGIN:VTIMEZONE
TZID:America/New_York
BEGIN:DAYLIGHT
TZOFFSETFROM:-0500
TZOFFSETTO:-0400
TZNAME:EDT
DTSTART:20230312T070000
END:DAYLIGHT
BEGIN:STANDARD
TZOFFSETFROM:-0400
TZOFFSETTO:-0500
TZNAME:EST
DTSTART:20231105T060000
END:STANDARD
BEGIN:DAYLIGHT
TZOFFSETFROM:-0500
TZOFFSETTO:-0400
TZNAME:EDT
DTSTART:20240310T070000
END:DAYLIGHT
BEGIN:STANDARD
TZOFFSETFROM:-0400
TZOFFSETTO:-0500
TZNAME:EST
DTSTART:20241103T060000
END:STANDARD
BEGIN:DAYLIGHT
TZOFFSETFROM:-0500
TZOFFSETTO:-0400
TZNAME:EDT
DTSTART:20250309T070000
END:DAYLIGHT
BEGIN:STANDARD
TZOFFSETFROM:-0400
TZOFFSETTO:-0500
TZNAME:EST
DTSTART:20251102T060000
END:STANDARD
END:VTIMEZONE
BEGIN:VEVENT
DTSTART;TZID=America/New_York:20240615T100000
DTEND;TZID=America/New_York:20240615T120000
DTSTAMP:20260424T123122
CREATED:20240530T115220Z
LAST-MODIFIED:20240530T203226Z
UID:2658-1718445600-1718452800@laurelmountainministries.org
SUMMARY:Pennsylvania Miracle Tent Revival on the Mountain - Evangelist Tracey Weiss & Revelation 19 Ministries - Women’s Event
DESCRIPTION:Miracle Tent Revival on the Mountain with Revelation 19 Ministries and Evangelist Tracey Weiss – Day 14 – Morning – Women’s Only Event\nJoin Revelation 19 Ministries for a special women’s event Saturday morning June 15th featuring Siono Rodriguez. \nSioni was born in Mumbai\, India in 1970\, and moved with her family to Costa Rica when she was five years old. Raised in poverty under unthinkable conditions\, she might have been lost to a life of pain and abuse. This was almost guaranteed when\, as a young girl\, she was sold into bondage—a young victim of human trafficking. \nInstead\, she escaped\, and created a new life for herself. It wasn’t easy. She worked hard\, and overcame the troubles that threatened to crush her. She learned how to cope with her mother’s failures. She eventually became a citizen of the United States\, married and built a loving and close family of her own. She has dedicated her life now to sharing her faith with others who have been abused as she was. \nSioni authored two books Three Times Sold: A Story of Faith\, Survival and Forgiveness and Rebuilding What Was Destroyed: How A Mother’s Bold Faith Changed Everything.  Soini also advocate for victims of human trafficking\, sexual assault\, and domestic violence. Sioni holds an Associate’s Degree in Biblical Academic Studies\, a Bachelor’s Degree in Religious Christian Counseling as well as a certificate\, from AACC\, in Mental Health Coaching and Behavioral Health Disorders. \nRegister for a Free Breakfast\nOn June 15th at 10:00 a.m.\, join Sioni and Revelation 19 Ministries under the bigtop at the Pennsylvania Miracle Tent Revival on the Mountain for a FREE BREAKFAST. CLICK HERE TO REGISTER FOR BREAKFAST. Breakfast will not be provided if you do not register. \nIf you enjoyed the morning’s Special Event\, join Tracy Weiss and Revelation 19 Ministries tonight.
URL:https://laurelmountainministries.org/event/pennsylvania-miracle-tent-revival-on-the-mountain-evangelist-tracey-weiss-revelation-19-ministries-womens-event/
LOCATION:Laurel Mountain Ministries\, 27 Chapel Lane\, Boyertown\, PA\, 19512\, United States
CATEGORIES:Events
ATTACH;FMTTYPE=image/jpeg:https://laurelmountainministries.org/wp-content/uploads/2024/05/Womens-Event-Flyer.jpeg
END:VEVENT
END:VCALENDAR