BEGIN:VCALENDAR
VERSION:2.0
PRODID:-//Laurel Mountain Ministries - ECPv6.15.20//NONSGML v1.0//EN
CALSCALE:GREGORIAN
METHOD:PUBLISH
X-ORIGINAL-URL:https://laurelmountainministries.org
X-WR-CALDESC:Events for Laurel Mountain Ministries
REFRESH-INTERVAL;VALUE=DURATION:PT1H
X-Robots-Tag:noindex
X-PUBLISHED-TTL:PT1H
BEGIN:VTIMEZONE
TZID:America/New_York
BEGIN:DAYLIGHT
TZOFFSETFROM:-0500
TZOFFSETTO:-0400
TZNAME:EDT
DTSTART:20230312T070000
END:DAYLIGHT
BEGIN:STANDARD
TZOFFSETFROM:-0400
TZOFFSETTO:-0500
TZNAME:EST
DTSTART:20231105T060000
END:STANDARD
BEGIN:DAYLIGHT
TZOFFSETFROM:-0500
TZOFFSETTO:-0400
TZNAME:EDT
DTSTART:20240310T070000
END:DAYLIGHT
BEGIN:STANDARD
TZOFFSETFROM:-0400
TZOFFSETTO:-0500
TZNAME:EST
DTSTART:20241103T060000
END:STANDARD
BEGIN:DAYLIGHT
TZOFFSETFROM:-0500
TZOFFSETTO:-0400
TZNAME:EDT
DTSTART:20250309T070000
END:DAYLIGHT
BEGIN:STANDARD
TZOFFSETFROM:-0400
TZOFFSETTO:-0500
TZNAME:EST
DTSTART:20251102T060000
END:STANDARD
END:VTIMEZONE
BEGIN:VEVENT
DTSTART;TZID=America/New_York:20240604T190000
DTEND;TZID=America/New_York:20240604T210000
DTSTAMP:20260424T122018
CREATED:20240301T185620Z
LAST-MODIFIED:20240430T151211Z
UID:2085-1717527600-1717534800@laurelmountainministries.org
SUMMARY:Pennsylvania Miracle Tent Revival on the Mountain - East Coast Healing Center with Evangelist Rowdy Stanley
DESCRIPTION:Miracle Tent Revival on the Mountain – Day Three\nThe Pennsylvania Miracle Tent Revival on the Mountain continues this evening. This week\, the  Revival is hosted by the East Coast Healing Center and its Founders Rich and Michele Snyder. This evening\, Evangelist Rowdy Stanley brings the message with joy and enthusiasm. This music and worship provided by Weston Waltenbaugh. \nAbout the East Coast Healing Center and Rich and Michele Snyder \n \nRich and Michele Snyder co-foundered the EAST COAST HEALING CENTER – a branch of the Midwest Healing Center of Laurie\, MO. \nRich and Michele’s extensive ministry experience began with street evangelism. They worked with Prodigal Son Ministries and For Jesus Ministries in Fort Worth\, TX where they fed and clothed at risk people. While on the streets\, they also prayed for the sick and saw healings\, signs\, and wonders. They led classes for homeless men and women\, helping the participants break free from life-controlling issues. \nIn 2007-2008\, Rich and Michele lived in Kenya\, Africa where they received further instruction under the apostolic ministry of Life Church International. Rich and Michele used that experience to minister in home fellowships\, conferences\, and church services in the U.S.\, and internationally. \nLater\, as part of their counseling ministry\, they led many couples to healing and marriage restoration. During that time\, they also gained experience in pastoring and leadership training. Presently\, Rich and Michele have an active speaking and YouTube Ministry. \nMichele has more than twenty-five years of teaching experience. Her giftings explain Biblical concepts in practical\, thought-provoking ways encouraging others to act boldly on their faith. Michele’s gift is exercised in her book\, Exposing the Enemy – Leaving the Rut of Bondage to Pursue Breakthrough and Destiny. Michele’s latest book\, His Word Became Flesh: Daily Devotions for Physical Healing\, is not a typical daily devotional. The daily readings will teach you how to receive healing for yourself. At the same time it provides a road map to renew your mind\, remove false teachings\, and build your faith for your own healing. \nRich is a gifted administrator\, technical expert\, and speaker who ministers the Word of God at the core. igniting a change of heart. \nRich and Michele have been married for more than 35 years and have five children and six grandchildren. \nHear Rich and Michele Snyder\n \nAbout Evangelist Rowdy Stanley\nEvangelist Stanley is called Rowdy for a reason. Rowdy is a straight forward\, high energy speaker. His message is one of power and encouragement. Buckle up your seat belt. Check to your chair is stable\, and be ready for a unique journey through the scripture with Evangelist Stanley. You wont want to miss him. \nAbout Worship with Weston Waltenbaugh\nWeston decided to bring Jesus to where people are. Yes\, he ministers to churches. But\, he also brings his love of Christ to the hundreds of millions of millions of people on social media with regular releases of his music across multiple platforms. Weston will bless you and encourage you to worship in a fresh way. \nHear Weston Waltenbaugh\nhttps://www.tiktok.com/@westonwaltenbaugh/video/7229721304776183082 \nIf you enjoyed this evening’s Pennsylvania Miracle Tent Revival on the Mountain\, join us for Day Four under the Tent.
URL:https://laurelmountainministries.org/event/pennsylvania-miracle-tent-revival-on-the-mountain-east-coast-healing-center-3/
LOCATION:Laurel Mountain Ministries\, 27 Chapel Lane\, Boyertown\, PA\, 19512\, United States
CATEGORIES:Events
ATTACH;FMTTYPE=image/jpeg:https://laurelmountainministries.org/wp-content/uploads/2024/04/IMG_0606.jpeg
ORGANIZER;CN="East Coast Healing Center":MAILTO:eastcoasthealingcenter.pa@gmail.com
END:VEVENT
END:VCALENDAR