BEGIN:VCALENDAR
VERSION:2.0
PRODID:-//Laurel Mountain Ministries - ECPv6.15.20//NONSGML v1.0//EN
CALSCALE:GREGORIAN
METHOD:PUBLISH
X-ORIGINAL-URL:https://laurelmountainministries.org
X-WR-CALDESC:Events for Laurel Mountain Ministries
REFRESH-INTERVAL;VALUE=DURATION:PT1H
X-Robots-Tag:noindex
X-PUBLISHED-TTL:PT1H
BEGIN:VTIMEZONE
TZID:America/New_York
BEGIN:DAYLIGHT
TZOFFSETFROM:-0500
TZOFFSETTO:-0400
TZNAME:EDT
DTSTART:20230312T070000
END:DAYLIGHT
BEGIN:STANDARD
TZOFFSETFROM:-0400
TZOFFSETTO:-0500
TZNAME:EST
DTSTART:20231105T060000
END:STANDARD
BEGIN:DAYLIGHT
TZOFFSETFROM:-0500
TZOFFSETTO:-0400
TZNAME:EDT
DTSTART:20240310T070000
END:DAYLIGHT
BEGIN:STANDARD
TZOFFSETFROM:-0400
TZOFFSETTO:-0500
TZNAME:EST
DTSTART:20241103T060000
END:STANDARD
BEGIN:DAYLIGHT
TZOFFSETFROM:-0500
TZOFFSETTO:-0400
TZNAME:EDT
DTSTART:20250309T070000
END:DAYLIGHT
BEGIN:STANDARD
TZOFFSETFROM:-0400
TZOFFSETTO:-0500
TZNAME:EST
DTSTART:20251102T060000
END:STANDARD
END:VTIMEZONE
BEGIN:VEVENT
DTSTART;TZID=America/New_York:20240528T190000
DTEND;TZID=America/New_York:20240528T203000
DTSTAMP:20260424T123219
CREATED:20240314T222747Z
LAST-MODIFIED:20240314T232805Z
UID:2178-1716922800-1716928200@laurelmountainministries.org
SUMMARY:Bible Study with Gail Johnson
DESCRIPTION:Tuesday Evening Bible Study Returns\nTuesday evening Bible Study with Gail returns to the Campus Chapel for the Spring. This session focuses on I Corinthians 2:13\, ”Comparing Spiritual Things With Spiritual”. \nDon’t miss this study as Gail brings her unique perspective and warmth to a fascinating topic. \nIf you enoy this session\, please join us next week for more of “Comparing Spiritual Things with Spiritual.” \nAbout Gail Johnson (Miss Gail)\n\nGail (Miss Gail) Johnson graduated The Universtiy of Valley Forge (formerly Valley Forge Christian College) with a degree in Bible. Her experience as a youth worker\, shared pastoring\, and shared youth camp directorship with her husband Dave equips her to present a Bible Study that informs\, inspires\, and is directed towards changing lives.
URL:https://laurelmountainministries.org/event/bible-study-with-gail-johnson-9/
LOCATION:Campus Chapel
CATEGORIES:Events
ATTACH;FMTTYPE=image/png:https://laurelmountainministries.org/wp-content/uploads/2024/02/Comparing-Spiritual-Things-With-Spriritual.png
ORGANIZER;CN="Laurel Mountain Ministries":MAILTO:info@laurelmountainministries.org
END:VEVENT
END:VCALENDAR